BEGIN:VCALENDAR
VERSION:2.0
PRODID:-//hacksw/handcal//NONSGML v1.0//EN
CALSCALE:GREGORIAN
BEGIN:VEVENT
SUMMARY:Webinar: Macro Update &amp\; Top Ideas - April 2026
URL;VALUE=URI:https://fundstrat.com/client-portal/event/macro-update-top-ideas-april-2026/?action=register_to_webinar
LOCATION:
DESCRIPTION:https://fundstrat.zoom.us/j/89453753325?pwd=kPN4e5Lgv6hiC3Y4ZD2dtu47FUXuuL.1 Event Agenda: Join us on Thursday April 23 at 11am ET for a live webinar and interactive Q&#038\;A with Fundstrat’s Head of Research\, Tom Lee\, and Head of Technical Strategy\, Mark Newton. The session begins with a macro market update\, followed by this month’s Top Ideas\, where Tom and Mark deliver a focused deep dive into the opportunities they find most compelling in today’s market environment. In this webinar\, you will: -Synthesize Tom and Mark’s near-daily commentary into a clear market framework -Discuss this month’s top 5 large-cap and top 5 SMID-cap stock ideas -Engage directly with Tom and Mark during a live client Q&#038\;A Can’t attend live? A full replay will be made available to members shortly after the event. 
DTSTART:20260423T150000Z
DTEND:20260423T160000Z
DTSTAMP:20260420T223429Z
UID:69e6e235e54b8
END:VEVENT
END:VCALENDAR