BEGIN:VCALENDAR
VERSION:2.0
PRODID:-//hacksw/handcal//NONSGML v1.0//EN
CALSCALE:GREGORIAN
BEGIN:VEVENT
SUMMARY:Webinar: Crypto Market Update Webinar - April 2026
URL;VALUE=URI:https://fundstrat.com/client-portal/event/crypto-market-update-webinar-april-2026/?action=register_to_webinar
LOCATION:
DESCRIPTION:https://fundstrat.zoom.us/j/87952635668?pwd=V6OiQHLGFfuFXsIj4yjjurJcV0bBbm.1 Event Agenda: Join us on Tuesday\, April 28 at 2pm ET for a comprehensive crypto webinar with Mark Newton (Fundstrat Head of Technical Strategy) and Sean Farrell (Fundstrat Head of Digital Assets Strategy)\, blending technical and fundamental insights across major digital assets. We’ll break down key price levels\, on-chain trends\, and upcoming catalysts shaping the next phase of the market\, offering clear\, data-driven insight into where the sector may be headed next and where new opportunities may emerge. Can’t make it? We’ve got you covered. As always\, a replay will be available to clients shortly after the live event concludes. 
DTSTART:20260428T180000Z
DTEND:20260428T190000Z
DTSTAMP:20260420T223500Z
UID:69e6e254ace8b
END:VEVENT
END:VCALENDAR