BEGIN:VCALENDAR
VERSION:2.0
PRODID:-//hacksw/handcal//NONSGML v1.0//EN
CALSCALE:GREGORIAN
BEGIN:VEVENT
SUMMARY:Webinar: Solana and the Future of Programmable Capital Markets
URL;VALUE=URI:https://fundstrat.com/client-portal/event/solana-and-the-future-of-programmable-capital-markets/?action=register_to_webinar
LOCATION:
DESCRIPTION:https://fundstrat.zoom.us/j/81365596175?pwd=WYaRRTLxPzsU0o3X158Erpf0sagblE.1 Event Agenda: Join Sean Farrell\, Head of Digital Asset Strategy at Fundstrat\, and Lily Liu\, President of the Solana Foundation\, on Thursday\, April 30\, at 11am ET for an exclusive live webinar. In this webinar\, Sean and Lily will discuss: -Solana’s role as a global settlement layer for programmable capital markets -How on-chain activity translates into SOL value\, yield\, and investor returns -Institutional adoption and the pipeline for tokenized financial assets -Competitive positioning\, key risks\, and forward-looking catalysts Can’t make it? We’ve got you covered. As always\, a replay will be available to members shortly after the live event concludes. 
DTSTART:20260430T150000Z
DTEND:20260430T160000Z
DTSTAMP:20260420T223446Z
UID:69e6e2466955e
END:VEVENT
END:VCALENDAR